BEGIN:VCALENDAR
VERSION:2.0
PRODID:-//Calendario Fiscal 2026 - ECPv6.15.20//NONSGML v1.0//EN
CALSCALE:GREGORIAN
METHOD:PUBLISH
X-ORIGINAL-URL:https://ssgtmex.com/calendario
X-WR-CALDESC:Eventos para Calendario Fiscal 2026
REFRESH-INTERVAL;VALUE=DURATION:PT1H
X-Robots-Tag:noindex
X-PUBLISHED-TTL:PT1H
BEGIN:VTIMEZONE
TZID:UTC
BEGIN:STANDARD
TZOFFSETFROM:+0000
TZOFFSETTO:+0000
TZNAME:UTC
DTSTART:20250101T000000
END:STANDARD
END:VTIMEZONE
BEGIN:VEVENT
DTSTART;VALUE=DATE:20260430
DTEND;VALUE=DATE:20260501
DTSTAMP:20260421T094842
CREATED:20260113T225810Z
LAST-MODIFIED:20260113T225810Z
UID:1765-1777507200-1777593599@ssgtmex.com
SUMMARY:Aviso de Dictamen IMSS
DESCRIPTION:CONTABILIDAD ELECTRÓNICA
URL:https://ssgtmex.com/calendario/2025/aviso-de-dictamen-imss/
END:VEVENT
BEGIN:VEVENT
DTSTART;VALUE=DATE:20260430
DTEND;VALUE=DATE:20260501
DTSTAMP:20260421T094842
CREATED:20260113T225840Z
LAST-MODIFIED:20260113T225840Z
UID:1767-1777507200-1777593599@ssgtmex.com
SUMMARY:Asamblea Ordinaria Accionistas
DESCRIPTION:CONTABILIDAD ELECTRÓNICA
URL:https://ssgtmex.com/calendario/2025/asamblea-ordinaria-accionistas/
END:VEVENT
BEGIN:VEVENT
DTSTART;VALUE=DATE:20260430
DTEND;VALUE=DATE:20260501
DTSTAMP:20260421T094842
CREATED:20260113T230109Z
LAST-MODIFIED:20260113T230109Z
UID:1773-1777507200-1777593599@ssgtmex.com
SUMMARY:ISR Declaración anual PF 2025
DESCRIPTION:OTRAS OBLIGACIONES
URL:https://ssgtmex.com/calendario/2025/isr-declaracion-anual-pf-2025/
END:VEVENT
BEGIN:VEVENT
DTSTART;VALUE=DATE:20260430
DTEND;VALUE=DATE:20260501
DTSTAMP:20260421T094842
CREATED:20260113T230140Z
LAST-MODIFIED:20260113T230140Z
UID:1775-1777507200-1777593599@ssgtmex.com
SUMMARY:SE/ Cuest anual INEGI 2025
DESCRIPTION:OTRAS OBLIGACIONES
URL:https://ssgtmex.com/calendario/2025/se-cuest-anual-inegi-2025/
END:VEVENT
BEGIN:VEVENT
DTSTART;VALUE=DATE:20260430
DTEND;VALUE=DATE:20260501
DTSTAMP:20260421T094842
CREATED:20260113T230530Z
LAST-MODIFIED:20260113T230530Z
UID:1787-1777507200-1777593599@ssgtmex.com
SUMMARY:Declaración Informativa de Operaciones con Terceros DIOT
DESCRIPTION:OBLIGACIONES MARZO 2026
URL:https://ssgtmex.com/calendario/2025/declaracion-informativa-de-operaciones-con-terceros-diot-4/
END:VEVENT
BEGIN:VEVENT
DTSTART;VALUE=DATE:20260430
DTEND;VALUE=DATE:20260501
DTSTAMP:20260421T094842
CREATED:20260113T230914Z
LAST-MODIFIED:20260113T230914Z
UID:1791-1777507200-1777593599@ssgtmex.com
SUMMARY:INEGI Informe de descargas Anexo 31
DESCRIPTION:OBLIGACIONES MARZO 2026
URL:https://ssgtmex.com/calendario/2025/inegi-informe-de-descargas-anexo-31-13/
END:VEVENT
END:VCALENDAR