BEGIN:VCALENDAR
VERSION:2.0
PRODID:-//Calendario Fiscal 2026 - ECPv6.15.20//NONSGML v1.0//EN
CALSCALE:GREGORIAN
METHOD:PUBLISH
X-WR-CALNAME:Calendario Fiscal 2026
X-ORIGINAL-URL:https://ssgtmex.com/calendario
X-WR-CALDESC:Eventos para Calendario Fiscal 2026
REFRESH-INTERVAL;VALUE=DURATION:PT1H
X-Robots-Tag:noindex
X-PUBLISHED-TTL:PT1H
BEGIN:VTIMEZONE
TZID:UTC
BEGIN:STANDARD
TZOFFSETFROM:+0000
TZOFFSETTO:+0000
TZNAME:UTC
DTSTART:20250101T000000
END:STANDARD
END:VTIMEZONE
BEGIN:VEVENT
DTSTART;VALUE=DATE:20260505
DTEND;VALUE=DATE:20260506
DTSTAMP:20260421T111427
CREATED:20260114T165933Z
LAST-MODIFIED:20260114T165933Z
UID:1815-1777939200-1778025599@ssgtmex.com
SUMMARY:CFDI complemento para recepción de pagos
DESCRIPTION:OTRAS OBLIGACIONES
URL:https://ssgtmex.com/calendario/2025/cfdi-complemento-para-recepcion-de-pagos-16/
END:VEVENT
BEGIN:VEVENT
DTSTART;VALUE=DATE:20260506
DTEND;VALUE=DATE:20260507
DTSTAMP:20260421T111427
CREATED:20260114T165222Z
LAST-MODIFIED:20260114T165222Z
UID:1799-1778025600-1778111999@ssgtmex.com
SUMMARY:Balanzas de comprobación marzo 2026 - Personas Morales
DESCRIPTION:CONTABILIDAD ELECTRÓNICA
URL:https://ssgtmex.com/calendario/2025/balanzas-de-comprobacion-marzo-2026-personas-morales/
END:VEVENT
BEGIN:VEVENT
DTSTART;VALUE=DATE:20260508
DTEND;VALUE=DATE:20260509
DTSTAMP:20260421T111427
CREATED:20260114T165145Z
LAST-MODIFIED:20260114T165145Z
UID:1797-1778198400-1778284799@ssgtmex.com
SUMMARY:Balanzas de comprobación marzo 2026 - Personas Físicas
DESCRIPTION:CONTABILIDAD ELECTRÓNICA
URL:https://ssgtmex.com/calendario/2025/balanzas-de-comprobacion-marzo-2026-personas-fisicas/
END:VEVENT
BEGIN:VEVENT
DTSTART;VALUE=DATE:20260515
DTEND;VALUE=DATE:20260516
DTSTAMP:20260421T111427
CREATED:20260114T170103Z
LAST-MODIFIED:20260114T170103Z
UID:1817-1778803200-1778889599@ssgtmex.com
SUMMARY:Dictamen fiscal 2025
DESCRIPTION:OTRAS OBLIGACIONES
URL:https://ssgtmex.com/calendario/2025/dictamen-fiscal-2025/
END:VEVENT
BEGIN:VEVENT
DTSTART;VALUE=DATE:20260515
DTEND;VALUE=DATE:20260516
DTSTAMP:20260421T111427
CREATED:20260114T170139Z
LAST-MODIFIED:20260114T170139Z
UID:1819-1778803200-1778889599@ssgtmex.com
SUMMARY:Presentación Anexo 9 PT
DESCRIPTION:OTRAS OBLIGACIONES
URL:https://ssgtmex.com/calendario/2025/presentacion-anexo-9-pt-2/
END:VEVENT
BEGIN:VEVENT
DTSTART;VALUE=DATE:20260515
DTEND;VALUE=DATE:20260516
DTSTAMP:20260421T111427
CREATED:20260114T170223Z
LAST-MODIFIED:20260114T170223Z
UID:1821-1778803200-1778889599@ssgtmex.com
SUMMARY:Aviso de actualización trimestral de inversión extranjera
DESCRIPTION:OTRAS OBLIGACIONES
URL:https://ssgtmex.com/calendario/2025/aviso-de-actualizacion-trimestral-de-inversion-extranjera-7/
END:VEVENT
BEGIN:VEVENT
DTSTART;VALUE=DATE:20260515
DTEND;VALUE=DATE:20260516
DTSTAMP:20260421T111427
CREATED:20260114T170301Z
LAST-MODIFIED:20260114T170301Z
UID:1823-1778803200-1778889599@ssgtmex.com
SUMMARY:Informe Económico Anual de Inversión  extranjera (K-Z)
DESCRIPTION:OTRAS OBLIGACIONES
URL:https://ssgtmex.com/calendario/2025/informe-economico-anual-de-inversion-extranjera-k-z-2/
END:VEVENT
BEGIN:VEVENT
DTSTART;VALUE=DATE:20260515
DTEND;VALUE=DATE:20260516
DTSTAMP:20260421T111427
CREATED:20260114T170609Z
LAST-MODIFIED:20260114T170609Z
UID:1833-1778803200-1778889599@ssgtmex.com
SUMMARY:Declaración Informativa Local de Partes Relacionadas (Local File) para el ejercicio fiscal 2025
DESCRIPTION:OTRAS OBLIGACIONES
URL:https://ssgtmex.com/calendario/2025/declaracion-informativa-local-de-partes-relacionadas-local-file-para-el-ejercicio-fiscal-2025/
END:VEVENT
BEGIN:VEVENT
DTSTART;VALUE=DATE:20260518
DTEND;VALUE=DATE:20260519
DTSTAMP:20260421T111427
CREATED:20260114T165323Z
LAST-MODIFIED:20260114T165323Z
UID:1801-1779062400-1779148799@ssgtmex.com
SUMMARY:ISR Pagos provisionales y retenciones
DESCRIPTION:OBLIGACIONES ABRIL 2026
URL:https://ssgtmex.com/calendario/2025/isr-pagos-provisionales-y-retenciones-16/
END:VEVENT
BEGIN:VEVENT
DTSTART;VALUE=DATE:20260518
DTEND;VALUE=DATE:20260519
DTSTAMP:20260421T111427
CREATED:20260114T165403Z
LAST-MODIFIED:20260114T165403Z
UID:1803-1779062400-1779148799@ssgtmex.com
SUMMARY:IEPS Pago definitivo
DESCRIPTION:OBLIGACIONES ABRIL 2026
URL:https://ssgtmex.com/calendario/2025/ieps-pago-definitivo-14/
END:VEVENT
BEGIN:VEVENT
DTSTART;VALUE=DATE:20260518
DTEND;VALUE=DATE:20260519
DTSTAMP:20260421T111427
CREATED:20260114T165438Z
LAST-MODIFIED:20260114T165438Z
UID:1805-1779062400-1779148799@ssgtmex.com
SUMMARY:IVA Pago definitivo y retenciones
DESCRIPTION:OBLIGACIONES ABRIL 2026
URL:https://ssgtmex.com/calendario/2025/iva-pago-definitivo-y-retenciones-17/
END:VEVENT
BEGIN:VEVENT
DTSTART;VALUE=DATE:20260518
DTEND;VALUE=DATE:20260519
DTSTAMP:20260421T111427
CREATED:20260114T165703Z
LAST-MODIFIED:20260114T165703Z
UID:1813-1779062400-1779148799@ssgtmex.com
SUMMARY:SS  Pago cuotas obrero patronales
DESCRIPTION:OBLIGACIONES ABRIL 2026
URL:https://ssgtmex.com/calendario/2025/ss-pago-cuotas-obrero-patronales-17/
END:VEVENT
BEGIN:VEVENT
DTSTART;VALUE=DATE:20260518
DTEND;VALUE=DATE:20260519
DTSTAMP:20260421T111427
CREATED:20260114T170346Z
LAST-MODIFIED:20260114T170346Z
UID:1825-1779062400-1779148799@ssgtmex.com
SUMMARY:SS info contratos ICSOE/SISUB enero a abril 2026
DESCRIPTION:OTRAS OBLIGACIONES
URL:https://ssgtmex.com/calendario/2025/ss-info-contratos-icsoe-sisub-enero-a-abril-2026/
END:VEVENT
BEGIN:VEVENT
DTSTART;VALUE=DATE:20260520
DTEND;VALUE=DATE:20260521
DTSTAMP:20260421T111427
CREATED:20260114T165552Z
LAST-MODIFIED:20260114T165552Z
UID:1809-1779235200-1779321599@ssgtmex.com
SUMMARY:SE/  Cuest mensual INEGI (INMEX)
DESCRIPTION:OBLIGACIONES ABRIL 2026
URL:https://ssgtmex.com/calendario/2025/se-cuest-mensual-inegi-inmex-6/
END:VEVENT
BEGIN:VEVENT
DTSTART;VALUE=DATE:20260529
DTEND;VALUE=DATE:20260530
DTSTAMP:20260421T111427
CREATED:20260114T165511Z
LAST-MODIFIED:20260114T165511Z
UID:1807-1780012800-1780099199@ssgtmex.com
SUMMARY:Declaración Informativa de Operaciones con Terceros DIOT
DESCRIPTION:OBLIGACIONES ABRIL 2026
URL:https://ssgtmex.com/calendario/2025/declaracion-informativa-de-operaciones-con-terceros-diot-5/
END:VEVENT
BEGIN:VEVENT
DTSTART;VALUE=DATE:20260529
DTEND;VALUE=DATE:20260530
DTSTAMP:20260421T111427
CREATED:20260114T165627Z
LAST-MODIFIED:20260114T165627Z
UID:1811-1780012800-1780099199@ssgtmex.com
SUMMARY:INEGI Informe de descargas Anexo 31
DESCRIPTION:OBLIGACIONES ABRIL 2026
URL:https://ssgtmex.com/calendario/2025/inegi-informe-de-descargas-anexo-31-14/
END:VEVENT
BEGIN:VEVENT
DTSTART;VALUE=DATE:20260529
DTEND;VALUE=DATE:20260530
DTSTAMP:20260421T111427
CREATED:20260114T170421Z
LAST-MODIFIED:20260114T170421Z
UID:1827-1780012800-1780099199@ssgtmex.com
SUMMARY:Reporte anual de comer exterior
DESCRIPTION:OTRAS OBLIGACIONES
URL:https://ssgtmex.com/calendario/2025/reporte-anual-de-comer-exterior/
END:VEVENT
BEGIN:VEVENT
DTSTART;VALUE=DATE:20260529
DTEND;VALUE=DATE:20260530
DTSTAMP:20260421T111427
CREATED:20260114T170459Z
LAST-MODIFIED:20260114T170459Z
UID:1829-1780012800-1780099199@ssgtmex.com
SUMMARY:Declaración informativa operaciones relevantes Ene-Mar 2026
DESCRIPTION:OTRAS OBLIGACIONES
URL:https://ssgtmex.com/calendario/2025/declaracion-informativa-operaciones-relevantes-ene-mar-2026/
END:VEVENT
BEGIN:VEVENT
DTSTART;VALUE=DATE:20260529
DTEND;VALUE=DATE:20260530
DTSTAMP:20260421T111427
CREATED:20260114T170526Z
LAST-MODIFIED:20260114T170526Z
UID:1831-1780012800-1780099199@ssgtmex.com
SUMMARY:Pago PTU
DESCRIPTION:OTRAS OBLIGACIONES
URL:https://ssgtmex.com/calendario/2025/pago-ptu/
END:VEVENT
END:VCALENDAR