BEGIN:VCALENDAR
VERSION:2.0
PRODID:-//Calendario Fiscal 2026 - ECPv6.15.20//NONSGML v1.0//EN
CALSCALE:GREGORIAN
METHOD:PUBLISH
X-WR-CALNAME:Calendario Fiscal 2026
X-ORIGINAL-URL:https://ssgtmex.com/calendario
X-WR-CALDESC:Eventos para Calendario Fiscal 2026
REFRESH-INTERVAL;VALUE=DURATION:PT1H
X-Robots-Tag:noindex
X-PUBLISHED-TTL:PT1H
BEGIN:VTIMEZONE
TZID:UTC
BEGIN:STANDARD
TZOFFSETFROM:+0000
TZOFFSETTO:+0000
TZNAME:UTC
DTSTART:20250101T000000
END:STANDARD
END:VTIMEZONE
BEGIN:VEVENT
DTSTART;VALUE=DATE:20260205
DTEND;VALUE=DATE:20260206
DTSTAMP:20260421T123532
CREATED:20260113T174856Z
LAST-MODIFIED:20260113T174856Z
UID:1717-1770249600-1770335999@ssgtmex.com
SUMMARY:CFDI complemento para recepción de pagos
DESCRIPTION:OTRAS OBLIGACIONES
URL:https://ssgtmex.com/calendario/2025/cfdi-complemento-para-recepcion-de-pagos-13/
END:VEVENT
BEGIN:VEVENT
DTSTART;VALUE=DATE:20260205
DTEND;VALUE=DATE:20260206
DTSTAMP:20260421T123532
CREATED:20260113T175146Z
LAST-MODIFIED:20260113T175146Z
UID:1725-1770249600-1770335999@ssgtmex.com
SUMMARY:Balanza de comprobación diciembre 2025 - Personas Morales
DESCRIPTION:CONTABILIDAD ELECTRÓNICA
URL:https://ssgtmex.com/calendario/2025/balanza-de-comprobacion-diciembre-2025-personas-morales/
END:VEVENT
BEGIN:VEVENT
DTSTART;VALUE=DATE:20260209
DTEND;VALUE=DATE:20260210
DTSTAMP:20260421T123532
CREATED:20260113T175218Z
LAST-MODIFIED:20260113T175218Z
UID:1727-1770595200-1770681599@ssgtmex.com
SUMMARY:Balanza de comprobación diciembre 2025 - Personas Físicas
DESCRIPTION:CONTABILIDAD ELECTRÓNICA
URL:https://ssgtmex.com/calendario/2025/balanza-de-comprobacion-diciembre-2025-personas-fisicas/
END:VEVENT
BEGIN:VEVENT
DTSTART;VALUE=DATE:20260217
DTEND;VALUE=DATE:20260218
DTSTAMP:20260421T123532
CREATED:20260113T172009Z
LAST-MODIFIED:20260113T172117Z
UID:1701-1771286400-1771372799@ssgtmex.com
SUMMARY:ISR Pagos provisionales y retenciones
DESCRIPTION:OBLIGACIONES ENERO 2026
URL:https://ssgtmex.com/calendario/2025/isr-pagos-provisionales-y-retenciones-13/
END:VEVENT
BEGIN:VEVENT
DTSTART;VALUE=DATE:20260217
DTEND;VALUE=DATE:20260218
DTSTAMP:20260421T123532
CREATED:20260113T174031Z
LAST-MODIFIED:20260113T174031Z
UID:1703-1771286400-1771372799@ssgtmex.com
SUMMARY:IEPS Pago defenitivo
DESCRIPTION:OBLIGACIONES ENERO 2026
URL:https://ssgtmex.com/calendario/2025/ieps-pago-defenitivo-2/
END:VEVENT
BEGIN:VEVENT
DTSTART;VALUE=DATE:20260217
DTEND;VALUE=DATE:20260218
DTSTAMP:20260421T123532
CREATED:20260113T174104Z
LAST-MODIFIED:20260113T174104Z
UID:1705-1771286400-1771372799@ssgtmex.com
SUMMARY:IVA Pago definitivo y retenciones
DESCRIPTION:OBLIGACIONES ENERO 2026
URL:https://ssgtmex.com/calendario/2025/iva-pago-definitivo-y-retenciones-14/
END:VEVENT
BEGIN:VEVENT
DTSTART;VALUE=DATE:20260217
DTEND;VALUE=DATE:20260218
DTSTAMP:20260421T123532
CREATED:20260113T174417Z
LAST-MODIFIED:20260113T174417Z
UID:1713-1771286400-1771372799@ssgtmex.com
SUMMARY:SS  Pago cuotas obrero patronales
DESCRIPTION:OBLIGACIONES ENERO 2026
URL:https://ssgtmex.com/calendario/2025/ss-pago-cuotas-obrero-patronales-14/
END:VEVENT
BEGIN:VEVENT
DTSTART;VALUE=DATE:20260217
DTEND;VALUE=DATE:20260218
DTSTAMP:20260421T123532
CREATED:20260113T174449Z
LAST-MODIFIED:20260113T174449Z
UID:1715-1771286400-1771372799@ssgtmex.com
SUMMARY:SAR / INFONAVIT
DESCRIPTION:OBLIGACIONES ENERO 2026
URL:https://ssgtmex.com/calendario/2025/sar-infonavit-4/
END:VEVENT
BEGIN:VEVENT
DTSTART;VALUE=DATE:20260217
DTEND;VALUE=DATE:20260218
DTSTAMP:20260421T123532
CREATED:20260113T175051Z
LAST-MODIFIED:20260113T175051Z
UID:1723-1771286400-1771372799@ssgtmex.com
SUMMARY:Declaraciones informativas DIM
DESCRIPTION:OTRAS OBLIGACIONES
URL:https://ssgtmex.com/calendario/2025/declaraciones-informativas-dim-2/
END:VEVENT
BEGIN:VEVENT
DTSTART;VALUE=DATE:20260220
DTEND;VALUE=DATE:20260221
DTSTAMP:20260421T123532
CREATED:20260113T174310Z
LAST-MODIFIED:20260113T174310Z
UID:1709-1771545600-1771631999@ssgtmex.com
SUMMARY:SE/  Cuest mensual INEGI (INMEX)
DESCRIPTION:OBLIGACIONES ENERO 2026
URL:https://ssgtmex.com/calendario/2025/se-cuest-mensual-inegi-inmex-3/
END:VEVENT
BEGIN:VEVENT
DTSTART;VALUE=DATE:20260227
DTEND;VALUE=DATE:20260228
DTSTAMP:20260421T123532
CREATED:20260113T174152Z
LAST-MODIFIED:20260113T174152Z
UID:1707-1772150400-1772236799@ssgtmex.com
SUMMARY:Declaración Informativa de Operaciones con Terceros DIOT
DESCRIPTION:OBLIGACIONES ENERO 2026
URL:https://ssgtmex.com/calendario/2025/declaracion-informativa-de-operaciones-con-terceros-diot-2/
END:VEVENT
BEGIN:VEVENT
DTSTART;VALUE=DATE:20260227
DTEND;VALUE=DATE:20260228
DTSTAMP:20260421T123532
CREATED:20260113T174343Z
LAST-MODIFIED:20260113T174343Z
UID:1711-1772150400-1772236799@ssgtmex.com
SUMMARY:INEGI Informe de descargas Anexo 31
DESCRIPTION:OBLIGACIONES ENERO 2026
URL:https://ssgtmex.com/calendario/2025/inegi-informe-de-descargas-anexo-31-11/
END:VEVENT
BEGIN:VEVENT
DTSTART;VALUE=DATE:20260227
DTEND;VALUE=DATE:20260228
DTSTAMP:20260421T123532
CREATED:20260113T174944Z
LAST-MODIFIED:20260113T174944Z
UID:1719-1772150400-1772236799@ssgtmex.com
SUMMARY:Declaración prima de riesgo
DESCRIPTION:OTRAS OBLIGACIONES
URL:https://ssgtmex.com/calendario/2025/declaracion-prima-de-riesgo-2/
END:VEVENT
BEGIN:VEVENT
DTSTART;VALUE=DATE:20260227
DTEND;VALUE=DATE:20260228
DTSTAMP:20260421T123532
CREATED:20260113T175028Z
LAST-MODIFIED:20260113T175028Z
UID:1721-1772150400-1772236799@ssgtmex.com
SUMMARY:Declaración informativa operaciones relevantes Oct-Dic 2025
DESCRIPTION:OTRAS OBLIGACIONES
URL:https://ssgtmex.com/calendario/2025/declaracion-informativa-operaciones-relevantes-oct-dic-2025/
END:VEVENT
END:VCALENDAR