BEGIN:VCALENDAR
VERSION:2.0
PRODID:-//Calendario Fiscal 2026 - ECPv6.15.20//NONSGML v1.0//EN
CALSCALE:GREGORIAN
METHOD:PUBLISH
X-WR-CALNAME:Calendario Fiscal 2026
X-ORIGINAL-URL:https://ssgtmex.com/calendario
X-WR-CALDESC:Eventos para Calendario Fiscal 2026
REFRESH-INTERVAL;VALUE=DURATION:PT1H
X-Robots-Tag:noindex
X-PUBLISHED-TTL:PT1H
BEGIN:VTIMEZONE
TZID:UTC
BEGIN:STANDARD
TZOFFSETFROM:+0000
TZOFFSETTO:+0000
TZNAME:UTC
DTSTART:20240101T000000
END:STANDARD
END:VTIMEZONE
BEGIN:VEVENT
DTSTART;VALUE=DATE:20251201
DTEND;VALUE=DATE:20251202
DTSTAMP:20260421T154102
CREATED:20250207T205146Z
LAST-MODIFIED:20250207T205146Z
UID:1563-1764547200-1764633599@ssgtmex.com
SUMMARY:Declaración Informativa de Operaciones con Terc DIOT
DESCRIPTION:Obligaciones Octubre 2025
URL:https://ssgtmex.com/calendario/2025/declaracion-informativa-de-operaciones-con-terc-diot-11/
END:VEVENT
BEGIN:VEVENT
DTSTART;VALUE=DATE:20251201
DTEND;VALUE=DATE:20251202
DTSTAMP:20260421T154102
CREATED:20250207T205317Z
LAST-MODIFIED:20250207T205317Z
UID:1567-1764547200-1764633599@ssgtmex.com
SUMMARY:INEGI Informe de descargas Anexo 31
DESCRIPTION:Obligaciones Octubre 2025
URL:https://ssgtmex.com/calendario/2025/inegi-informe-de-descargas-anexo-31-8/
END:VEVENT
BEGIN:VEVENT
DTSTART;VALUE=DATE:20251201
DTEND;VALUE=DATE:20251202
DTSTAMP:20260421T154102
CREATED:20250207T205656Z
LAST-MODIFIED:20250218T202926Z
UID:1577-1764547200-1764633599@ssgtmex.com
SUMMARY:Contabilidad Electrónica Septiembre 2024 - Declaración informativa operaciones relevantes Jul-Sep 2024
DESCRIPTION:Contabilidad Electrónica
URL:https://ssgtmex.com/calendario/2025/balanza-de-comprobacion-septiembre-2024-declaracion-informativa-operaciones-relevantes-jul-sep-2024/
END:VEVENT
BEGIN:VEVENT
DTSTART;VALUE=DATE:20251203
DTEND;VALUE=DATE:20251204
DTSTAMP:20260421T154102
CREATED:20250207T213800Z
LAST-MODIFIED:20250218T202917Z
UID:1597-1764720000-1764806399@ssgtmex.com
SUMMARY:Contabilidad Electrónica Octubre 2024 - Personas Morales
DESCRIPTION:Contabilidad Electrónica
URL:https://ssgtmex.com/calendario/2025/balanza-de-comprobacion-octubre-2024-personas-morales/
END:VEVENT
BEGIN:VEVENT
DTSTART;VALUE=DATE:20251205
DTEND;VALUE=DATE:20251206
DTSTAMP:20260421T154102
CREATED:20250207T213844Z
LAST-MODIFIED:20250218T202854Z
UID:1599-1764892800-1764979199@ssgtmex.com
SUMMARY:Contabilidad Electrónica Octubre 2024 - Personas Físicas
DESCRIPTION:Balanza de comprobación
URL:https://ssgtmex.com/calendario/2025/balanza-de-comprobacion-octubre-2024-personas-fisicas/
END:VEVENT
BEGIN:VEVENT
DTSTART;VALUE=DATE:20251210
DTEND;VALUE=DATE:20251211
DTSTAMP:20260421T154102
CREATED:20250207T213647Z
LAST-MODIFIED:20250207T213647Z
UID:1593-1765324800-1765411199@ssgtmex.com
SUMMARY:CFDI complemento para recepción de pagos
DESCRIPTION:Otras Obligaciones
URL:https://ssgtmex.com/calendario/2025/cfdi-complemento-para-recepcion-de-pagos-12/
END:VEVENT
BEGIN:VEVENT
DTSTART;VALUE=DATE:20251217
DTEND;VALUE=DATE:20251218
DTSTAMP:20260421T154102
CREATED:20250207T205744Z
LAST-MODIFIED:20250207T205744Z
UID:1579-1765929600-1766015999@ssgtmex.com
SUMMARY:ISR Pagos provisionales y retenciones
DESCRIPTION:Obligaciones Diciembre 2025
URL:https://ssgtmex.com/calendario/2025/isr-pagos-provisionales-y-retenciones-11/
END:VEVENT
BEGIN:VEVENT
DTSTART;VALUE=DATE:20251217
DTEND;VALUE=DATE:20251218
DTSTAMP:20260421T154102
CREATED:20250207T205819Z
LAST-MODIFIED:20250207T205819Z
UID:1581-1765929600-1766015999@ssgtmex.com
SUMMARY:IEPS Pago Definitivo
DESCRIPTION:Obligaciones Noviembre 2025
URL:https://ssgtmex.com/calendario/2025/ieps-pago-definitivo-12/
END:VEVENT
BEGIN:VEVENT
DTSTART;VALUE=DATE:20251217
DTEND;VALUE=DATE:20251218
DTSTAMP:20260421T154102
CREATED:20250207T205942Z
LAST-MODIFIED:20250207T205942Z
UID:1583-1765929600-1766015999@ssgtmex.com
SUMMARY:IVA Pago Definitivo y retenciones
DESCRIPTION:Obligaciones Noviembre 2025
URL:https://ssgtmex.com/calendario/2025/iva-pago-definitivo-y-retenciones-12/
END:VEVENT
BEGIN:VEVENT
DTSTART;VALUE=DATE:20251217
DTEND;VALUE=DATE:20251218
DTSTAMP:20260421T154102
CREATED:20250207T213620Z
LAST-MODIFIED:20250207T213620Z
UID:1591-1765929600-1766015999@ssgtmex.com
SUMMARY:SS Pago Cuotas Obrero Patronales
DESCRIPTION:Obligaciones Noviembre 2025
URL:https://ssgtmex.com/calendario/2025/ss-pago-cuotas-obrero-patronales-12/
END:VEVENT
BEGIN:VEVENT
DTSTART;VALUE=DATE:20251220
DTEND;VALUE=DATE:20251221
DTSTAMP:20260421T154102
CREATED:20250207T213716Z
LAST-MODIFIED:20250207T213716Z
UID:1595-1766188800-1766275199@ssgtmex.com
SUMMARY:Último día para el pago del aguinaldo
DESCRIPTION:Otras Obligaciones
URL:https://ssgtmex.com/calendario/2025/ultimo-dia-para-el-pago-del-aguinaldo/
END:VEVENT
BEGIN:VEVENT
DTSTART;VALUE=DATE:20251222
DTEND;VALUE=DATE:20251223
DTSTAMP:20260421T154102
CREATED:20250207T213430Z
LAST-MODIFIED:20250207T213430Z
UID:1587-1766361600-1766447999@ssgtmex.com
SUMMARY:SE/ Cuest mensual INEGI (INMEX)
DESCRIPTION:Obligaciones Noviembre 2025
URL:https://ssgtmex.com/calendario/2025/se-cuest-mensual-inegi-inmex-22/
END:VEVENT
BEGIN:VEVENT
DTSTART;VALUE=DATE:20251231
DTEND;VALUE=DATE:20260101
DTSTAMP:20260421T154102
CREATED:20250207T213357Z
LAST-MODIFIED:20250207T213357Z
UID:1585-1767139200-1767225599@ssgtmex.com
SUMMARY:Declaración Informativa de Operaciones con Terc DIOT
DESCRIPTION:Obligaciones Noviembre 2025
URL:https://ssgtmex.com/calendario/2025/declaracion-informativa-de-operaciones-con-terc-diot-12/
END:VEVENT
BEGIN:VEVENT
DTSTART;VALUE=DATE:20251231
DTEND;VALUE=DATE:20260101
DTSTAMP:20260421T154102
CREATED:20250207T213543Z
LAST-MODIFIED:20250207T213543Z
UID:1589-1767139200-1767225599@ssgtmex.com
SUMMARY:INEGI Informe de descargas Anexo 31
DESCRIPTION:Obligaciones Noviembre 2025
URL:https://ssgtmex.com/calendario/2025/inegi-informe-de-descargas-anexo-31-9/
END:VEVENT
BEGIN:VEVENT
DTSTART;VALUE=DATE:20251231
DTEND;VALUE=DATE:20260101
DTSTAMP:20260421T154102
CREATED:20250207T214806Z
LAST-MODIFIED:20250218T203539Z
UID:1601-1767139200-1767225599@ssgtmex.com
SUMMARY:Contabilidad Electrónica Octubre 2024 - Declaración informativa maestra
DESCRIPTION:Balanza de comprobación
URL:https://ssgtmex.com/calendario/2025/balanza-de-comprobacion-octubre-2024-declaracion-informativa-maestra/
END:VEVENT
END:VCALENDAR